BEGIN:VCALENDAR
VERSION:2.0
PRODID:-//Sarah Bennett Golf - ECPv6.15.20//NONSGML v1.0//EN
CALSCALE:GREGORIAN
METHOD:PUBLISH
X-WR-CALNAME:Sarah Bennett Golf
X-ORIGINAL-URL:https://www.sarahbennettgolf.co.uk
X-WR-CALDESC:Events for Sarah Bennett Golf
REFRESH-INTERVAL;VALUE=DURATION:PT1H
X-Robots-Tag:noindex
X-PUBLISHED-TTL:PT1H
BEGIN:VTIMEZONE
TZID:UTC
BEGIN:STANDARD
TZOFFSETFROM:+0000
TZOFFSETTO:+0000
TZNAME:UTC
DTSTART:20250101T000000
END:STANDARD
END:VTIMEZONE
BEGIN:VEVENT
DTSTART;TZID=UTC:20260329T100000
DTEND;TZID=UTC:20260329T150000
DTSTAMP:20260420T135732
CREATED:20260127T215332Z
LAST-MODIFIED:20260127T215525Z
UID:2916-1774778400-1774796400@www.sarahbennettgolf.co.uk
SUMMARY:GolfingGirls Day with Sarah Bennett
DESCRIPTION:Come and join in the GolfingGirls day with Sarah Bennett PGA Fellow Professional.  Sarah has been organising the day since 2010 achieving her goal of welcoming a mix of new to the more experienced golfer. \nThe morning will include fun skills stations followed by 6 holes of team golf then coffee and cake in the clubhouse.  The day concludes with a unique Q&A session surrounding Sarah’s historic role as past PGA Captain. \nThe Golfinggirls day will be held at Lexden Wood Golf Club near Colchester which is open to both members and non with all levels of abilities. \nSo if you fancy an action packed day out learning and socialising this day is most definitely for you. Please do not hesitate to contact me via my website below if you have any further questions. \nhttps://www.sarahbennettgolf.co.uk/contact/
URL:https://www.sarahbennettgolf.co.uk/event/golfinggirls-day-with-sarah-bennett/
CATEGORIES:Group Lesson - All
ATTACH;FMTTYPE=image/jpeg:https://www.sarahbennettgolf.co.uk/wp-content/uploads/2024/06/Sarah-and-smile.jpg
END:VEVENT
END:VCALENDAR