BEGIN:VCALENDAR
VERSION:2.0
PRODID:-//Sarah Bennett Golf - ECPv6.15.20//NONSGML v1.0//EN
CALSCALE:GREGORIAN
METHOD:PUBLISH
X-ORIGINAL-URL:https://www.sarahbennettgolf.co.uk
X-WR-CALDESC:Events for Sarah Bennett Golf
REFRESH-INTERVAL;VALUE=DURATION:PT1H
X-Robots-Tag:noindex
X-PUBLISHED-TTL:PT1H
BEGIN:VTIMEZONE
TZID:UTC
BEGIN:STANDARD
TZOFFSETFROM:+0000
TZOFFSETTO:+0000
TZNAME:UTC
DTSTART:20130101T000000
END:STANDARD
END:VTIMEZONE
BEGIN:VEVENT
DTSTART;TZID=UTC:20150110T130000
DTEND;TZID=UTC:20150110T150000
DTSTAMP:20260424T095151
CREATED:20141025T191253Z
LAST-MODIFIED:20141025T191253Z
UID:923-1420894800-1420902000@www.sarahbennettgolf.co.uk
SUMMARY:Ladies Group Golf lessons
DESCRIPTION:After a successful 2014 Golfing girl Ladies Group Golf Lessons\, I have released the following dates for the first few months of 2015. My Ladies Group Golf lessons will take the same format which will be a 2 hour session with everyone meeting in the clubhouse prior to the session. \nAll equipment will be provided for my very sought after ladies group golf lessons\, with a reputation of growing ladies golf in Essex if you are looking to meet ladies of a similar mind set then make sure you sign up early to avoid disappointment. \nThese represent excellent value with one of the most experienced Teaching and playing Professional in Essex\, Sarah is well known for the ladies golf programme she offers. \nThe following areas will be covered over the year: £20 for each monthly session which can be made by visiting the payments page \nPutting is fun \nShort game secrets \nShort game creativity \nLong Game myths \nRules to your advantage \nEtiquette \nLet’s Play the game \nLadies Group Golf Lessons
URL:https://www.sarahbennettgolf.co.uk/event/ladies-group-golf-lessons/
LOCATION:Three River Golf Club\, Chelmsford\, Essex
ATTACH;FMTTYPE=image/jpeg:https://www.sarahbennettgolf.co.uk/wp-content/uploads/2014/07/Essex-Ladies-initiative-051-e1406536455786.jpg
END:VEVENT
BEGIN:VEVENT
DTSTART;VALUE=DATE:20141123
DTEND;VALUE=DATE:20141124
DTSTAMP:20260424T095151
CREATED:20140905T133015Z
LAST-MODIFIED:20141025T185033Z
UID:780-1416700800-1416787199@www.sarahbennettgolf.co.uk
SUMMARY:Bennetts birdies festive day
DESCRIPTION:Well\, this is an Event that has established itself over the past 5 years and is growing each year! \nDue to large numbers this day entries have been allocated on a first come first served basis. \nA day full of Fun from the moment we arrive to the time we decide to depart! \nThis is one not to miss out on! \nA maximum of 24 ladies will be treated to a day to remember\, for many this is the first time on the golf course since commencing the game in the Summer months\, but the day is open to those players who have started with Sarah in one of her GolfingGirl ladies golf lessons and progressed through the year with her. \nEvery lady who attends the day started in this way and are on hand to help on the course\, which is a friendly Texas scramble competition with every player collecting a prize for something! \nThe start sheet and information has been e mailed to everyone with arrival 9am with the first tee time being 10.34am on the Jubilee course. The two course Christmas meal will be served 4pm with an expected finish about 5.30pm. \nA Christmas hat is compulsory!!! A splendid prize awaits
URL:https://www.sarahbennettgolf.co.uk/event/bennetts-birdies-festive-day/
LOCATION:Three River Golf Club\, Chelmsford\, Essex
ATTACH;FMTTYPE=image/jpeg:https://www.sarahbennettgolf.co.uk/wp-content/uploads/2013/12/Bennett-s-Birdies-2013-050.jpg
END:VEVENT
BEGIN:VEVENT
DTSTART;TZID=UTC:20141025T130000
DTEND;TZID=UTC:20141025T150000
DTSTAMP:20260424T095151
CREATED:20141004T161844Z
LAST-MODIFIED:20141004T161844Z
UID:896-1414242000-1414249200@www.sarahbennettgolf.co.uk
SUMMARY:Golfing Girl bunker lessons golf
DESCRIPTION:Due to torrential rain the golf lesson from the 4th October has been rescheduled for the 25th October 1pm-3pm. This session will be focused on bunker lessons golf. This will be open to the same ladies who signed up for the session from today with further sessions to be added to the Events calendar. \nHopefully we will be lucky this time and learn how to play “splash” shots! not the variety from the puddles!!!! \nSee you all then
URL:https://www.sarahbennettgolf.co.uk/event/golfing-girl-bunker-lessons-golf/
LOCATION:Three Rivers Golf Club\, CM36RR\, United Kingdom
END:VEVENT
BEGIN:VEVENT
DTSTART;TZID=UTC:20141019T050000
DTEND;TZID=UTC:20141023T130000
DTSTAMP:20260424T095151
CREATED:20140905T135249Z
LAST-MODIFIED:20140905T141052Z
UID:788-1413694800-1414069200@www.sarahbennettgolf.co.uk
SUMMARY:Golf with a Pro
DESCRIPTION:Sarah Bennett’s annual Ladies golf holiday in Spain to the ever popular and accommodating resort of Islantilla. spaces are limited to 12 golfers and is an all inclusive trip with a mix of golf coaching\, playing and of course plenty of fun. Sarah will provide you with course management coaching tips. This is a rare chance to play golf with a pro with 25 years of Ladies European and Coaching experience. \nSarah will be releasing dates for early Spring 2015 don’t miss out
URL:https://www.sarahbennettgolf.co.uk/event/golf-pro/
LOCATION:Islantilla\, Spain
END:VEVENT
BEGIN:VEVENT
DTSTART;TZID=UTC:20141014T130000
DTEND;TZID=UTC:20141014T150000
DTSTAMP:20260424T095151
CREATED:20140915T124522Z
LAST-MODIFIED:20140915T153229Z
UID:867-1413291600-1413298800@www.sarahbennettgolf.co.uk
SUMMARY:Sarah's slice fix
DESCRIPTION:This I am sure will be a popular group lesson\, who would not want to find the fairway more often whilst increasing distance? Learn the factors that causes a slice and let Sarah help you get rid of it with a number of drills that are right for you. \nEarly sign up for this group lesson is recommended as the class is limited to a maximum of 8 golfers registration can be through my payments page or by cash or cheque delivered to the Pro Shop if Sarah is out coaching which is £19.00 (£20 using the on line booking system)
URL:https://www.sarahbennettgolf.co.uk/event/sarahs-slice-fix/
LOCATION:Three Rivers Golf Club\, CM36RR\, United Kingdom
END:VEVENT
BEGIN:VEVENT
DTSTART;TZID=UTC:20141011T160000
DTEND;TZID=UTC:20141011T190000
DTSTAMP:20260424T095151
CREATED:20140905T142148Z
LAST-MODIFIED:20140905T142419Z
UID:796-1413043200-1413054000@www.sarahbennettgolf.co.uk
SUMMARY:Junior Golf club day out
DESCRIPTION:A perfect afternoon of fun for our Junior members at Three Rivers Golf & Country Club\, please view the Junior notice board at the club for information \nWe will be visiting Top Golf in Chigwell so don’t delay please sign up and book your space or speak with Sarah Bennett PGA Head Teaching Professional
URL:https://www.sarahbennettgolf.co.uk/event/junior-golf-club-day/
LOCATION:Top Golf\, United Kingdom
END:VEVENT
BEGIN:VEVENT
DTSTART;TZID=UTC:20141004T140000
DTEND;TZID=UTC:20141004T160000
DTSTAMP:20260424T095151
CREATED:20140905T135358Z
LAST-MODIFIED:20140910T131806Z
UID:794-1412431200-1412438400@www.sarahbennettgolf.co.uk
SUMMARY:GolfingGirl Ladies Get into Golf group lessons
DESCRIPTION:Sarah is renowned for the on-going ladies group lessons she delivers at Three Rivers Golf Club in Essex. Her friendly out going personality combines with a Professionalism second to none. It is not often you receive golf coaching from a female Golf Professional with the experience Sarah possesses. \nClasses are always booked so don’t delay….. Be a GolfingGirl ! Ladies Group Golf Lessons  \nCome and join Sarah Bennett for an initial 2 hour golf coaching lesson with like minded ladies who would like to give golf a go. \nAll equipment will be provided as will light refreshments\, all you need to ensure is you bring bags of energy and be prepared to have some FUN and understand why golf is such an amazing game.  \nBookings can be made via my on line payments page \n  \nAn important part of learning the game is to ensure quality follow on sessions with a structured programme leading to further activities. Spaces are limited and subject to availability \nAUGUST 16TH 3pm-5pm  FULL \nSEPTEMBER 6TH 3pm-5pm  FULL \nOCTOBER 4TH 2pm-4pm   Few spaces \nNOVEMBER 8th 1pm-3pm  Few spaces \nLook no further as regular events will be posted right here. I Look forward to meeting you all
URL:https://www.sarahbennettgolf.co.uk/event/golfinggirl-ladies-get-golf-group-lessons-2/
LOCATION:Three River Golf Club\, Chelmsford\, Essex
ATTACH;FMTTYPE=image/jpeg:https://www.sarahbennettgolf.co.uk/wp-content/uploads/2014/07/happy-ladies-e1405515204768.jpg
END:VEVENT
BEGIN:VEVENT
DTSTART;TZID=UTC:20141004T130000
DTEND;TZID=UTC:20141004T140000
DTSTAMP:20260424T095151
CREATED:20140905T134636Z
LAST-MODIFIED:20140905T134636Z
UID:789-1412427600-1412431200@www.sarahbennettgolf.co.uk
SUMMARY:Junior Golf Passport Lessons
DESCRIPTION:Come and join Sarah for her popular Junior Saturday group golf lessons which run for consecutive weeks at Three Rivers Golf & Country Club. As a Golf Mark facility Sarah uses her TPI Junior Level 2 qualification to coach movement pattern and all aspects of the golf game. Her fun and interactive sessions are available to all standards of junior player\, all equipment is provided for those who require clubs. \nThe next series of lessons are as follows and require advance booking and payment by cheque or cash directly to Sarah at the cost of £32.00 \nThe lessons are held on the Saturday between 1pm-2pm\, Please meet in the clubhouse at Three Rivers Golf Club and ensure your child wears suitable clothing for the weather conditions with either golf shoes or trainers with sufficient grip on the soles \nSEPTEMBER 13TH  1pm-2pm \nSEPTEMBER 20TH  1pm-2pm \nSEPTEMBER 27TH 1pm-2pm \nOCTOBER 4TH    1pm-2pm \nAny cancellations due to weather conditions will be made prior to the coaching
URL:https://www.sarahbennettgolf.co.uk/event/junior-golf-passport-lessons-3/
LOCATION:Three River Golf Club\, Chelmsford\, Essex
END:VEVENT
BEGIN:VEVENT
DTSTART;TZID=UTC:20140929T133000
DTEND;TZID=UTC:20140929T153000
DTSTAMP:20260424T095151
CREATED:20140915T123734Z
LAST-MODIFIED:20140915T153322Z
UID:866-1411997400-1412004600@www.sarahbennettgolf.co.uk
SUMMARY:Sarah's short game chipping class
DESCRIPTION:The ideal way to socialise whilst learning and interacting with fellow golfers\, these two group lessons will cover the short game and Sarah’s Slice fixer! These are aimed at the giving the golfer key practice drills to improve accuracy from the tee and increase the number of up and downs which will assist with your scoring and enjoyment of the game. \nThis date will cover the short game and identify the most suited technique to assist with your chipping\, refreshments will be provided and as always a fun competition compliments an enjoyable 2 hours with England East regional Coach and Head Professional at Three Rivers Golf Club
URL:https://www.sarahbennettgolf.co.uk/event/sarahs-short-game-chipping-class/
LOCATION:Three Rivers Golf Club\, CM36RR\, United Kingdom
ATTACH;FMTTYPE=image/jpeg:https://www.sarahbennettgolf.co.uk/wp-content/uploads/2013/12/Scottsdale-2013-479.jpg
END:VEVENT
BEGIN:VEVENT
DTSTART;TZID=UTC:20140927T130000
DTEND;TZID=UTC:20140927T140000
DTSTAMP:20260424T095151
CREATED:20140905T134454Z
LAST-MODIFIED:20140905T134454Z
UID:787-1411822800-1411826400@www.sarahbennettgolf.co.uk
SUMMARY:Junior Golf Passport Lessons
DESCRIPTION:Come and join Sarah for her popular Junior Saturday group golf lessons which run for consecutive weeks at Three Rivers Golf & Country Club. As a Golf Mark facility Sarah uses her TPI Junior Level 2 qualification to coach movement pattern and all aspects of the golf game. Her fun and interactive sessions are available to all standards of junior player\, all equipment is provided for those who require clubs. \nThe next series of lessons are as follows and require advance booking and payment by cheque or cash directly to Sarah at the cost of £32.00 \nThe lessons are held on the Saturday between 1pm-2pm\, Please meet in the clubhouse at Three Rivers Golf Club and ensure your child wears suitable clothing for the weather conditions with either golf shoes or trainers with sufficient grip on the soles \nSEPTEMBER 13TH  1pm-2pm \nSEPTEMBER 20TH  1pm-2pm \nSEPTEMBER 27TH 1pm-2pm \nOCTOBER 4TH    1pm-2pm \nAny cancellations due to weather conditions will be made prior to the coaching
URL:https://www.sarahbennettgolf.co.uk/event/junior-golf-passport-lessons-2/
LOCATION:Three River Golf Club\, Chelmsford\, Essex
ATTACH;FMTTYPE=image/jpeg:https://www.sarahbennettgolf.co.uk/wp-content/uploads/2014/08/Golfinggirl-pict.jpg
END:VEVENT
BEGIN:VEVENT
DTSTART;VALUE=DATE:20140926
DTEND;VALUE=DATE:20140929
DTSTAMP:20260424T095151
CREATED:20140905T134249Z
LAST-MODIFIED:20140905T134249Z
UID:783-1411689600-1411948799@www.sarahbennettgolf.co.uk
SUMMARY:Ryder Cup 2014
DESCRIPTION:The highlight of 2014\, watch the amazing Ryder Cup between the USA and Europe. This event is always an armchair thriller and is the talking point in the clubhouse
URL:https://www.sarahbennettgolf.co.uk/event/ryder-cup-2014/
LOCATION:Gleneagles
END:VEVENT
BEGIN:VEVENT
DTSTART;TZID=UTC:20140920T130000
DTEND;TZID=UTC:20140920T140000
DTSTAMP:20260424T095151
CREATED:20140905T134328Z
LAST-MODIFIED:20140905T144937Z
UID:785-1411218000-1411221600@www.sarahbennettgolf.co.uk
SUMMARY:Junior Golf Passport lessons
DESCRIPTION:Come and join Sarah for her popular Junior Saturday group golf lessons which run for consecutive weeks at Three Rivers Golf & Country Club. As a Golf Mark facility Sarah uses her TPI Junior Level 2 qualification to coach movement pattern and all aspects of the golf game. Her fun and interactive sessions are available to all standards of junior player\, all equipment is provided for those who require clubs. \nThe next series of lessons are as follows and require advance booking and payment by cheque or cash directly to Sarah at the cost of £32.00 \nThe lessons are held on the Saturday between 1pm-2pm\, Please meet in the clubhouse at Three Rivers Golf Club and ensure your child wears suitable clothing for the weather conditions with either golf shoes or trainers with sufficient grip on the soles \nSEPTEMBER 13TH  1pm-2pm \nSEPTEMBER 20TH  1pm-2pm \nSEPTEMBER 27TH 1pm-2pm \nOCTOBER 4TH    1pm-2pm \nAny cancellations due to weather conditions will be made prior to the coaching
URL:https://www.sarahbennettgolf.co.uk/event/junior-golf-passport-lessons/
LOCATION:Three River Golf Club\, Chelmsford\, Essex
ATTACH;FMTTYPE=image/jpeg:https://www.sarahbennettgolf.co.uk/wp-content/uploads/2014/08/Golfinggirl-pict.jpg
END:VEVENT
BEGIN:VEVENT
DTSTART;TZID=UTC:20140913T130000
DTEND;TZID=UTC:20140913T140000
DTSTAMP:20260424T095151
CREATED:20140904T144032Z
LAST-MODIFIED:20140905T133902Z
UID:749-1410613200-1410616800@www.sarahbennettgolf.co.uk
SUMMARY:Junior Golf lessons
DESCRIPTION:
URL:https://www.sarahbennettgolf.co.uk/event/junior-golf-lessons/
LOCATION:Three River Golf Club\, Chelmsford\, Essex
ATTACH;FMTTYPE=image/jpeg:https://www.sarahbennettgolf.co.uk/wp-content/uploads/2014/07/Grace-golfing-2014-017-e1405516988421.jpg
END:VEVENT
BEGIN:VEVENT
DTSTART;VALUE=DATE:20140912
DTEND;VALUE=DATE:20140913
DTSTAMP:20260424T095151
CREATED:20140908T201305Z
LAST-MODIFIED:20140908T201305Z
UID:831-1410480000-1410566399@www.sarahbennettgolf.co.uk
SUMMARY:Three Rivers Pro-am
DESCRIPTION:The annual Three Rivers Pro-am hosted by the East Region PGA and sponsored by Heinekin. The chance to play with a local regional Professional on your home course. \n18 holes of golf followed by a meal and super prizes! an event not to be missed
URL:https://www.sarahbennettgolf.co.uk/event/three-rivers-pro/
LOCATION:Three Rivers Golf Club\, CM36RR\, United Kingdom
ATTACH;FMTTYPE=image/jpeg:https://www.sarahbennettgolf.co.uk/wp-content/uploads/2014/09/Grace-golfing-2014-035.jpg
END:VEVENT
BEGIN:VEVENT
DTSTART;TZID=UTC:20140906T150000
DTEND;TZID=UTC:20140906T170000
DTSTAMP:20260424T095151
CREATED:20140905T135207Z
LAST-MODIFIED:20140905T135207Z
UID:791-1410015600-1410022800@www.sarahbennettgolf.co.uk
SUMMARY:GolfingGirl Ladies Get into Golf Group Lessons
DESCRIPTION:Introducing Golf to Ladies in Essex \nSarah is renowned for the on-going ladies group lessons she delivers at Three Rivers Golf Club in Essex. Her friendly out going personality combines with a Professionalism second to none. It is not often you receive golf coaching from a female Golf Professional with the experience Sarah possesses. \nClasses are always booked so don’t delay….. Be a GolfingGirl ! Ladies Group Golf Lessons  \nCome and join Sarah Bennett for an initial 2 hour golf coaching lesson with like minded ladies who would like to give golf a go. \nAll equipment will be provided as will light refreshments\, all you need to ensure is you bring bags of energy and be prepared to have some FUN and understand why golf is such an amazing game \nSATURDAY 19TH JULY 3PM-5PM  £18.00 spaces limited \nAn important part of learning the game is to ensure quality follow on sessions with a structured programme leading to further activities. Spaces are limited and subject to availability \nAUGUST 16TH 3pm-5pm \nSEPTEMBER 6TH 3pm-5pm \nOCTOBER 4TH 2pm-4pm \nNOVEMBER 8th 1pm-3pm \nLook no further as regular events will be posted right here. I Look forward to meeting you all
URL:https://www.sarahbennettgolf.co.uk/event/golfinggirl-ladies-get-golf-group-lessons/
LOCATION:Three River Golf Club\, Chelmsford\, Essex
ATTACH;FMTTYPE=image/jpeg:https://www.sarahbennettgolf.co.uk/wp-content/uploads/2014/07/happy-ladies-e1405515204768.jpg
END:VEVENT
BEGIN:VEVENT
DTSTART;TZID=UTC:20140816T150000
DTEND;TZID=UTC:20140816T170000
DTSTAMP:20260424T095151
CREATED:20140905T135027Z
LAST-MODIFIED:20140905T135027Z
UID:790-1408201200-1408208400@www.sarahbennettgolf.co.uk
SUMMARY:Golfing Ladies Get into Golf Group Lessons
DESCRIPTION:Introducing Golf to Ladies in Essex \nSarah is renowned for the on-going ladies group lessons she delivers at Three Rivers Golf Club in Essex. Her friendly out going personality combines with a Professionalism second to none. It is not often you receive golf coaching from a female Golf Professional with the experience Sarah possesses. \nClasses are always booked so don’t delay….. Be a GolfingGirl ! Ladies Group Golf Lessons  \nCome and join Sarah Bennett for an initial 2 hour golf coaching lesson with like minded ladies who would like to give golf a go. \nAll equipment will be provided as will light refreshments\, all you need to ensure is you bring bags of energy and be prepared to have some FUN and understand why golf is such an amazing game \nSATURDAY 19TH JULY 3PM-5PM  £18.00 spaces limited \nAn important part of learning the game is to ensure quality follow on sessions with a structured programme leading to further activities. Spaces are limited and subject to availability \nAUGUST 16TH 3pm-5pm \nSEPTEMBER 6TH 3pm-5pm \nOCTOBER 4TH 2pm-4pm \nNOVEMBER 8th 1pm-3pm \nLook no further as regular events will be posted right here. I Look forward to meeting you all
URL:https://www.sarahbennettgolf.co.uk/event/golfing-ladies-get-golf-group-lessons/
LOCATION:Three River Golf Club\, Chelmsford\, Essex
ATTACH;FMTTYPE=image/jpeg:https://www.sarahbennettgolf.co.uk/wp-content/uploads/2014/07/happy-ladies-e1405515204768.jpg
END:VEVENT
END:VCALENDAR