BEGIN:VCALENDAR
VERSION:2.0
PRODID:-//Sarah Bennett Golf - ECPv6.15.20//NONSGML v1.0//EN
CALSCALE:GREGORIAN
METHOD:PUBLISH
X-WR-CALNAME:Sarah Bennett Golf
X-ORIGINAL-URL:https://www.sarahbennettgolf.co.uk
X-WR-CALDESC:Events for Sarah Bennett Golf
REFRESH-INTERVAL;VALUE=DURATION:PT1H
X-Robots-Tag:noindex
X-PUBLISHED-TTL:PT1H
BEGIN:VTIMEZONE
TZID:UTC
BEGIN:STANDARD
TZOFFSETFROM:+0000
TZOFFSETTO:+0000
TZNAME:UTC
DTSTART:20250101T000000
END:STANDARD
END:VTIMEZONE
BEGIN:VEVENT
DTSTART;TZID=UTC:20260207T110000
DTEND;TZID=UTC:20260207T120000
DTSTAMP:20260420T111833
CREATED:20260126T174801Z
LAST-MODIFIED:20260126T174801Z
UID:2897-1770462000-1770465600@www.sarahbennettgolf.co.uk
SUMMARY:Sharpen your golf skills
DESCRIPTION:Sharpen your golf skills this February by attending one or a Trio of Sarah Bennetts popular group coaching sessions. The sessions are held over three consecutive weekends between 11am-12pm at Lexden Wood Golf Club in Essex. \nPlease don’t be apprehensive if you are a new golfer. Sarah’s highly regarded skill level of coaching ensures every golfer feels comfortable with Coaching directed to the individual. \nThe fun group sessions contain a blend of learning with practice skills to enhance improvement away from the range. \nAll equipment is provided but please just let Sarah know in advance. Please note payment is required in advance with a cancellation policy in place with no transfers permitted. \nRange balls will be required to be purchased from Lexden Wood for the full swing session but supplied for chipping and putting. \nThe group size will be limited so don’t delay and book your space directly with Sarah or via her online booking system.
URL:https://www.sarahbennettgolf.co.uk/event/sharpen-your-golf-skills/
CATEGORIES:Group Lesson - All
ATTACH;FMTTYPE=image/jpeg:https://www.sarahbennettgolf.co.uk/wp-content/uploads/2026/01/fb82450a-df59-48d8-87f1-9e5b41064fc0.jpg
END:VEVENT
BEGIN:VEVENT
DTSTART;TZID=UTC:20260214T110000
DTEND;TZID=UTC:20260214T120000
DTSTAMP:20260420T111833
CREATED:20260126T180837Z
LAST-MODIFIED:20260126T180837Z
UID:2899-1771066800-1771070400@www.sarahbennettgolf.co.uk
SUMMARY:Sharpen Your Golf  Skills
DESCRIPTION:Sharpen your golf skills with Sarah Bennett full swing golf clinic. The second week of Sarah’s trio will be based around iron play a popular topic. \nThe hour session is suitable for all levels of player with any equipment required will be supplied by Sarah. The session will be held at Lexden Wood Golf Club who required range ball payment which is separate to Sarah’s coaching. \nPlease contact Sarah directly to book and please be mindful of her cancellation policy which is detailed on her booking system. \n“I look forward to assisting you with your game in readiness for the Spring time”
URL:https://www.sarahbennettgolf.co.uk/event/sharpen-your-golf-skills-2/
CATEGORIES:Group Lesson - All
ATTACH;FMTTYPE=image/jpeg:https://www.sarahbennettgolf.co.uk/wp-content/uploads/2021/03/How-to-hit-a-golf-shot-over-water.jpg
END:VEVENT
BEGIN:VEVENT
DTSTART;TZID=UTC:20260221T110000
DTEND;TZID=UTC:20260221T120000
DTSTAMP:20260420T111833
CREATED:20260126T182612Z
LAST-MODIFIED:20260126T182612Z
UID:2902-1771671600-1771675200@www.sarahbennettgolf.co.uk
SUMMARY:Sharpen Your Skills Group Coaching
DESCRIPTION:The third Sharpen your skills group coaching takes place on 21st February. This week will be focused upon putting the least practiced element of the game but the most important. \nThe group size will be limited to 8 golfers to allow maximum learning. You will learn about \n\nImproved Holing out\nGreen Reading\nHow to practice\n\nPlease bring three golf balls and tee pegs plus a note book and pen. \nBookings can be made directly with Sarah or directly via her Pro Agenda on line booking system where payment can be made to secure your space.
URL:https://www.sarahbennettgolf.co.uk/event/sharpen-your-skills-group-coaching/
CATEGORIES:Group Lesson - All
ATTACH;FMTTYPE=image/jpeg:https://www.sarahbennettgolf.co.uk/wp-content/uploads/2024/08/IMG_9686.jpg
END:VEVENT
END:VCALENDAR