BEGIN:VCALENDAR
VERSION:2.0
PRODID:-//Sarah Bennett Golf - ECPv6.15.20//NONSGML v1.0//EN
CALSCALE:GREGORIAN
METHOD:PUBLISH
X-WR-CALNAME:Sarah Bennett Golf
X-ORIGINAL-URL:https://www.sarahbennettgolf.co.uk
X-WR-CALDESC:Events for Sarah Bennett Golf
REFRESH-INTERVAL;VALUE=DURATION:PT1H
X-Robots-Tag:noindex
X-PUBLISHED-TTL:PT1H
BEGIN:VTIMEZONE
TZID:UTC
BEGIN:STANDARD
TZOFFSETFROM:+0000
TZOFFSETTO:+0000
TZNAME:UTC
DTSTART:20250101T000000
END:STANDARD
END:VTIMEZONE
BEGIN:VEVENT
DTSTART;TZID=UTC:20260607T090000
DTEND;TZID=UTC:20260608T170000
DTSTAMP:20260424T081956
CREATED:20260127T142602Z
LAST-MODIFIED:20260127T142602Z
UID:2904-1780822800-1780938000@www.sarahbennettgolf.co.uk
SUMMARY:Dunston Hall Mixed Coaching weekend
DESCRIPTION:Sarah’s ever popular Dunston Hall mixed golf coaching weekend is the ideal short get away with a chance to upgrade your skills\, socialise enjoying friendly competition. \nThe weekend will comprise of a mix of full swing and short game coaching. Sarah will be on hand over the 2 x 18 holes to assist with any on course management questions. \nThe evening presents the ideal opportunity to quiz Sarah about her historic year as PGA Captain on GB&I in addition to Women’s PGA Cup Captain. \nAs always Sarah will ensure the weekend is productive with each golfer leaving with additional knowledge and new found friends. \nThe weekend package includes the following \n1 Night Dinner B&B \n2 rounds of golf \nCoaching with Top 50 Golf Monthly Coach Sarah Bennett \nOn course prizes \nEvening Event \n10% off in the bunkers bar \n£260 pp Twin/Double per person share \nSingle price on request please contact Sarah directly via her website https://www.sarahbennettgolf.co.uk/contact/
URL:https://www.sarahbennettgolf.co.uk/event/dunston-hall-mixed-coaching-weekend/
CATEGORIES:Golf Holidays
ATTACH;FMTTYPE=image/jpeg:https://www.sarahbennettgolf.co.uk/wp-content/uploads/2015/03/Dunston-day-2-2015-097.jpg
END:VEVENT
BEGIN:VEVENT
DTSTART;TZID=UTC:20260614T070000
DTEND;TZID=UTC:20260618T200000
DTSTAMP:20260424T081956
CREATED:20260205T234927Z
LAST-MODIFIED:20260423T204445Z
UID:2974-1781420400-1781812800@www.sarahbennettgolf.co.uk
SUMMARY:Sun Swing and Skills with Sarah BennettGolf
DESCRIPTION:Islantilla Spain\nTHIS EVENT HAS BEEN RESCHEDULED for 2027 (NEW schedule to be released) \nA welcoming Golf School run by Sarah Bennett PGA Fellow Professional and Golf Monthly top 50 Coach. \nThis Golf School to Islantilla is specifically designed for new golfers and the higher handicap player in mind. \nSarah’s programme focuses upon simple\, effective fundamentals\, confidence building instruction.  Your guaranteed improvement will take place in a relaxed environment definitely a school not to be missed. \n \nYou will learn on course ready skills with Sarah who will be on hand daily assisting her group to make real notable improvement in the Spanish sunshine. \nSarah is one of the leaders in the travel industry and has been running her Women’s Golf Schools since setting up Golfing Girl in 2010. \nHer Golf Schools in addition \ninclude Long Haul and mixed series which are proving extremely popular. \nIncluded\nThe week will consist of the following: \n4 Nights Dinner Bed and Breakfast \nDrinks with the evening meal (wine\, beer) \n3 x Rounds of golf at Islantilla Golf (9 holes or 18 holes you choose) \nDaily Coaching \nRange Balls with an allocated area blocked off for SBG clients \nVideo Analysis with voice over from Sarah Golf Monthly Top 50 Coach \nQ&A Evening with Sarah Bennett PGA Captain 2022 \nExclusions: \nFlights \nTransfers (players will be grouped depending upon flight schedules) the price will be adjusted accordingly \nDaily lunch if  required  is available in the clubhouse \nBuggies/ Electric Trolleys (Pre- bookable in advance) \nPull Tolleys \nTravel Insurance and incidentals \nThe price is based upon a Twin share with my booking being handled by ABTA Agents to safeguard funds. \nA single supplement is available upon request (£124 pp)
URL:https://www.sarahbennettgolf.co.uk/event/sun-swing-and-skills-with-sarah-bennettgolf/
CATEGORIES:Golf Holidays
ATTACH;FMTTYPE=image/jpeg:https://www.sarahbennettgolf.co.uk/wp-content/uploads/2026/02/P1080207-scaled.jpg
END:VEVENT
BEGIN:VEVENT
DTSTART;TZID=UTC:20260614T080000
DTEND;TZID=UTC:20260616T170000
DTSTAMP:20260424T081956
CREATED:20260423T203804Z
LAST-MODIFIED:20260423T203804Z
UID:3038-1781424000-1781629200@www.sarahbennettgolf.co.uk
SUMMARY:UK Womens Coaching weekend
DESCRIPTION:June 14th -16th 2026\nTelford Hotel Spa and Golf\nThe ideal get away for an intensive but very sociable UK Women’s Coaching weekend with Sarah Bennett Golf.  The popularity of Sarah’s European and Long haul Events now are gathering momentum in the UK entering her sixteenth year. \nSarah’s organisational skills coupled with award winning coaching accolades guarantees a weekend full of learning both on and off the course with evening Q&A sessions.\nSarah recognises the needs of her clients and prides herself on the attention to detail from start to finish with a comprehensive itinerary coupled with a series of game improvement drills and skills. \nSarah’s extensive knowledge as a former Ladies European Tour player manifests itself within her course management\, strategy and mindset delivery. This is an area of the game severely under coached but yielding the greatest gains in a short time frame. \nThe fantastically priced and excellent valued weekend consists of the following: \n\nAccommodation for 2 nights Dinner Bed & Breakfast (Twin share basis)  *\n3 rounds of golf and 3 days coaching\nShort Game Coaching\nPutting (Dial your distance & holing out with success)\nFind those fairways\n50 range balls per person per day for the clinics\nQ&A session with Sarah Bennett former PGA Captain (second Woman in the history of the PGA since 1901 to Captain PGA of GB&I\nAncillary On course prizes\n\n*Single supplement upon request directly with Sarah \nSpaces will be limited to 12 to ensure maximum interaction and time for this coaching weekend. \nI am sure you will agree the above is the perfect retreat to fine tune your game in the company of one of the leading female Professionals in the UK and like minded Women for a special UK get away. \nPlease note there will be a non- refundable deposit payable but due to the close proximity of the event full payment will be required by the first week of May 2026. \nPlease contact me directly vis the contact page for bookings leaving your e mail so I can confirm your booking.
URL:https://www.sarahbennettgolf.co.uk/event/uk-womens-coaching-weekend/
CATEGORIES:Group Lesson - Golfing Girl,Golf Holidays
ATTACH;FMTTYPE=image/jpeg:https://www.sarahbennettgolf.co.uk/wp-content/uploads/2026/04/telford-golf001.jpg
END:VEVENT
END:VCALENDAR