BEGIN:VCALENDAR
VERSION:2.0
PRODID:-//Sarah Bennett Golf - ECPv6.15.20//NONSGML v1.0//EN
CALSCALE:GREGORIAN
METHOD:PUBLISH
X-ORIGINAL-URL:https://www.sarahbennettgolf.co.uk
X-WR-CALDESC:Events for Sarah Bennett Golf
REFRESH-INTERVAL;VALUE=DURATION:PT1H
X-Robots-Tag:noindex
X-PUBLISHED-TTL:PT1H
BEGIN:VTIMEZONE
TZID:UTC
BEGIN:STANDARD
TZOFFSETFROM:+0000
TZOFFSETTO:+0000
TZNAME:UTC
DTSTART:20250101T000000
END:STANDARD
END:VTIMEZONE
BEGIN:VEVENT
DTSTART;TZID=UTC:20260425T120000
DTEND;TZID=UTC:20260425T130000
DTSTAMP:20260420T074553
CREATED:20260221T190547Z
LAST-MODIFIED:20260331T174048Z
UID:3010-1777118400-1777122000@www.sarahbennettgolf.co.uk
SUMMARY:Mixed Group Golf Coaching
DESCRIPTION:Mixed Group Golf Coaching\nAPRIL 25th 12 Noon -1pm\n“Hitting more fairways” \nSarah Bennett Golf School at Lexden Wood Golf Club\nAPRIL 25th Noon- 13:00 \n£30 \nSarah Bennett PGA continues with her highly successful winter improvement programme building upon her winter series of Short Game savers. \n \n  \n  \n  \n  \nThe lessons will be delivered at Lexden Wood Golf Club in Colchester where Sarah is the Senior PGA Instructor. Sarah is regarded as one of the most experienced PGA Professionals in the area. \nThis is the first in the series so save the date and watch your short game improve over the Spring period. \nThis one hour session will focus upon the “art of pitching” a neglected area of the game. \nIf you sign up for the four sessions there will be a “special” please ask Sarah for the details.
URL:https://www.sarahbennettgolf.co.uk/event/mixed-group-golf-coaching/
CATEGORIES:Group Lesson - Golfing Girl,Group Lesson - All
ATTACH;FMTTYPE=image/jpeg:https://www.sarahbennettgolf.co.uk/wp-content/uploads/2026/02/IMG_0154-scaled.jpeg
END:VEVENT
END:VCALENDAR